Workbook

Sheet Rajtlista
A1: Rajtszám | B1: Név | C1: Kategória | D1: Táv | H1: Gyerek
A2: 1 | B2: Kriszti | C2: nő | D2: sprint
F3: sprint
A4: 3 | B4: Gábor | C4: férfi | D4: veterán | F4: rövid | H4: Rajtszám | I4: Név | J4: Kor
A5: 4 | B5: Feri | C5: férfi | D5: veterán | F5: közép | H5: 1 | I5: Beni | J5: 6
A6: 5 | B6: Áron | C6: férfi | D6: sprint | H6: 2 | I6: Dodó | J6: 4
A7: 6 | B7: Ádám | C7: férfi | D7: sprint | F7: férfi | H7: 3 | I7: Bolda | J7: 6
A8: 7 | B8: Tomi | C8: férfi | D8: sprint | F8: nő | H8: 4 | I8: Salamon | J8: 10
A9: 8 | B9: Bálint | C9: férfi | D9: sprint | H9: 5 | I9: Ágoston | J9: 10
A10: 9 | B10: Anti | C10: férfi | D10: sprint | H10: 6 | I10: Ambrus | J10: 9
A11: 10 | B11: Ibi | C11: nő | D11: sprint | H11: 7 | I11: Simon | J11: 5
H12: 8 | I12: Samu | J12: 7
H13: 9 | I13: Betti | J13: 8
H14: 10 | I14: Frida | J14: 6
H15: 11 | I15: Jonatán | J15: 2

Sheet start
A1: START | B1: 4 | C1: =IF(ISBLANK(B1),FALSE,IF(C1=FALSE,NOW(),C1)) -> 44072.721

Sheet depo1
A1: ÚSZÁS VÉGE | F1: BRINGA ELEJE | L1: =start!A1 -> START | M1: =start!B1 -> 4 | N1: =start!C1 -> 44072.721
A3: Rajtszám | B3: Időpont | C3: Úszás ideje | D3: Úszás sebessége (perc/100m) | E3: Táv | F3: Rajtszám | G3: Időpont | H3: Depo ideje | I3: Táv
A4: 6 | B4: =IF(ISBLANK(A4),FALSE,IF(B4=FALSE,NOW(),B4)) -> 44072.737 | C4: =B4-start!$C$1 -> 0.016022917 | D4: =C4/IF(E4="sprint",10,19) -> 0.0016022917 | E4: =VLOOKUP(A4,Rajtlista!A$2:D$62,4) -> sprint | F4: 1 | G4: =IF(ISBLANK(F4),FALSE,IF(G4=FALSE,NOW(),G4)) -> 44072.738 | H4: =G4-VLOOKUP(F4,A$4:B$64,2,FALSE) -> 0.0010527778 | I4: =VLOOKUP(F4,Rajtlista!A$2:D$62,4) -> sprint
A5: 1 | B5: =IF(ISBLANK(A5),FALSE,IF(B5=FALSE,NOW(),B5)) -> 44072.737 | C5: =B5-start!$C$1 -> 0.016070833 | D5: =C5/IF(E5="sprint",10,19) -> 0.0016070833 | E5: =VLOOKUP(A5,Rajtlista!A$2:D$62,4) -> sprint | F5: 6 | G5: =IF(ISBLANK(F5),FALSE,IF(G5=FALSE,NOW(),G5)) -> 44072.739 | H5: =G5-VLOOKUP(F5,A$4:B$64,2,FALSE) -> 0.0013684028 | I5: =VLOOKUP(F5,Rajtlista!A$2:D$62,4) -> sprint
A6: 5 | B6: =IF(ISBLANK(A6),FALSE,IF(B6=FALSE,NOW(),B6)) -> 44072.738 | C6: =B6-start!$C$1 -> 0.016931713 | D6: =C6/IF(E6="sprint",10,19) -> 0.0016931713 | E6: =VLOOKUP(A6,Rajtlista!A$2:D$62,4) -> sprint | F6: 5 | G6: =IF(ISBLANK(F6),FALSE,IF(G6=FALSE,NOW(),G6)) -> 44072.74 | H6: =G6-VLOOKUP(F6,A$4:B$64,2,FALSE) -> 0.0015491898 | I6: =VLOOKUP(F6,Rajtlista!A$2:D$62,4) -> sprint
A7: 8 | B7: =IF(ISBLANK(A7),FALSE,IF(B7=FALSE,NOW(),B7)) -> 44072.738 | C7: =B7-start!$C$1 -> 0.016941782 | D7: =C7/IF(E7="sprint",10,19) -> 0.0016941782 | E7: =VLOOKUP(A7,Rajtlista!A$2:D$62,4) -> sprint | F7: 8 | G7: =IF(ISBLANK(F7),FALSE,IF(G7=FALSE,NOW(),G7)) -> 44072.74 | H7: =G7-VLOOKUP(F7,A$4:B$64,2,FALSE) -> 0.0016853009 | I7: =VLOOKUP(F7,Rajtlista!A$2:D$62,4) -> sprint
A8: 7 | B8: =IF(ISBLANK(A8),FALSE,IF(B8=FALSE,NOW(),B8)) -> 44072.739 | C8: =B8-start!$C$1 -> 0.018173611 | D8: =C8/IF(E8="sprint",10,19) -> 0.0018173611 | E8: =VLOOKUP(A8,Rajtlista!A$2:D$62,4) -> sprint | F8: 7 | G8: =IF(ISBLANK(F8),FALSE,IF(G8=FALSE,NOW(),G8)) -> 44072.741 | H8: =G8-VLOOKUP(F8,A$4:B$64,2,FALSE) -> 0.0011814815 | I8: =VLOOKUP(F8,Rajtlista!A$2:D$62,4) -> sprint
A9: 4 | B9: =IF(ISBLANK(A9),FALSE,IF(B9=FALSE,NOW(),B9)) -> 44072.745 | C9: =B9-start!$C$1 -> 0.023224537 | D9: =C9/10 -> 0.0023224537 | E9: =VLOOKUP(A9,Rajtlista!A$2:D$62,4) -> veterán | F9: 4 | G9: =IF(ISBLANK(F9),FALSE,IF(G9=FALSE,NOW(),G9)) -> 44072.746 | H9: =G9-VLOOKUP(F9,A$4:B$64,2,FALSE) -> 0.001103125 | I9: =VLOOKUP(F9,Rajtlista!A$2:D$62,4) -> veterán
A10: 9 | B10: =IF(ISBLANK(A10),FALSE,IF(B10=FALSE,NOW(),B10)) -> 44072.746 | C10: =B10-start!$C$1 -> 0.025061343 | D10: =C10/IF(E10="sprint",10,19) -> 0.0025061343 | E10: =VLOOKUP(A10,Rajtlista!A$2:D$62,4) -> sprint | F10: 9 | G10: =IF(ISBLANK(F10),FALSE,IF(G10=FALSE,NOW(),G10)) -> 44072.752 | H10: =G10-VLOOKUP(F10,A$4:B$64,2,FALSE) -> 0.0056564815 | I10: =VLOOKUP(F10,Rajtlista!A$2:D$62,4) -> sprint
A11: 10 | B11: =IF(ISBLANK(A11),FALSE,IF(B11=FALSE,NOW(),B11)) -> 44072.746 | C11: =B11-start!$C$1 -> 0.025140625 | D11: =C11/IF(E11="sprint",10,19) -> 0.0025140625 | E11: =VLOOKUP(A11,Rajtlista!A$2:D$62,4) -> sprint | F11: 10 | G11: =IF(ISBLANK(F11),FALSE,IF(G11=FALSE,NOW(),G11)) -> 44072.752 | H11: =G11-VLOOKUP(F11,A$4:B$64,2,FALSE) -> 0.0056158565 | I11: =VLOOKUP(F11,Rajtlista!A$2:D$62,4) -> sprint
A12: 3 | B12: =IF(ISBLANK(A12),FALSE,IF(B12=FALSE,NOW(),B12)) -> 44072.749 | C12: =B12-start!$C$1 -> 0.027265394 | D12: =C12/10 -> 0.0027265394 | E12: =VLOOKUP(A12,Rajtlista!A$2:D$62,4) -> veterán | F12: 3 | G12: =IF(ISBLANK(F12),FALSE,IF(G12=FALSE,NOW(),G12)) -> 44072.754 | H12: =G12-VLOOKUP(F12,A$4:B$64,2,FALSE) -> 0.0054982639 | I12: =VLOOKUP(F12,Rajtlista!A$2:D$62,4) -> veterán
B13: =IF(ISBLANK(A13),FALSE,IF(B13=FALSE,NOW(),B13)) -> FALSE | C13: =B13-start!$C$1 -> -44072.721 | D13: =C13/IF(E13="sprint",10,19) -> #N/A | E13: =VLOOKUP(A13,Rajtlista!A$2:D$62,4) -> #N/A | G13: =IF(ISBLANK(F13),FALSE,IF(G13=FALSE,NOW(),G13)) -> FALSE | H13: =G13-VLOOKUP(F13,A$4:B$64,2,FALSE) -> #N/A | I13: =VLOOKUP(F13,Rajtlista!A$2:D$62,4) -> #N/A
B14: =IF(ISBLANK(A14),FALSE,IF(B14=FALSE,NOW(),B14)) -> FALSE | C14: =B14-start!$C$1 -> -44072.721 | D14: =C14/IF(E14="sprint",10,19) -> #N/A | E14: =VLOOKUP(A14,Rajtlista!A$2:D$62,4) -> #N/A | G14: =IF(ISBLANK(F14),FALSE,IF(G14=FALSE,NOW(),G14)) -> FALSE | H14: =G14-VLOOKUP(F14,A$4:B$64,2,FALSE) -> #N/A | I14: =VLOOKUP(F14,Rajtlista!A$2:D$62,4) -> #N/A
B15: =IF(ISBLANK(A15),FALSE,IF(B15=FALSE,NOW(),B15)) -> FALSE | C15: =B15-start!$C$1 -> -44072.721 | D15: =C15/IF(E15="sprint",10,19) -> #N/A | E15: =VLOOKUP(A15,Rajtlista!A$2:D$62,4) -> #N/A | G15: =IF(ISBLANK(F15),FALSE,IF(G15=FALSE,NOW(),G15)) -> FALSE | H15: =G15-VLOOKUP(F15,A$4:B$64,2,FALSE) -> #N/A | I15: =VLOOKUP(F15,Rajtlista!A$2:D$62,4) -> #N/A
B16: =IF(ISBLANK(A16),FALSE,IF(B16=FALSE,NOW(),B16)) -> FALSE | C16: =B16-start!$C$1 -> -44072.721 | D16: =C16/IF(E16="sprint",10,19) -> #N/A | E16: =VLOOKUP(A16,Rajtlista!A$2:D$62,4) -> #N/A | G16: =IF(ISBLANK(F16),FALSE,IF(G16=FALSE,NOW(),G16)) -> FALSE | H16: =G16-VLOOKUP(F16,A$4:B$64,2,FALSE) -> #N/A | I16: =VLOOKUP(F16,Rajtlista!A$2:D$62,4) -> #N/A
B17: =IF(ISBLANK(A17),FALSE,IF(B17=FALSE,NOW(),B17)) -> FALSE | C17: =B17-start!$C$1 -> -44072.721 | D17: =C17/IF(E17="sprint",10,19) -> #N/A | E17: =VLOOKUP(A17,Rajtlista!A$2:D$62,4) -> #N/A | G17: =IF(ISBLANK(F17),FALSE,IF(G17=FALSE,NOW(),G17)) -> FALSE | H17: =G17-VLOOKUP(F17,A$4:B$64,2,FALSE) -> #N/A | I17: =VLOOKUP(F17,Rajtlista!A$2:D$62,4) -> #N/A
B18: =IF(ISBLANK(A18),FALSE,IF(B18=FALSE,NOW(),B18)) -> FALSE | C18: =B18-start!$C$1 -> -44072.721 | D18: =C18/IF(E18="sprint",10,19) -> #N/A | E18: =VLOOKUP(A18,Rajtlista!A$2:D$62,4) -> #N/A | G18: =IF(ISBLANK(F18),FALSE,IF(G18=FALSE,NOW(),G18)) -> FALSE | H18: =G18-VLOOKUP(F18,A$4:B$64,2,FALSE) -> #N/A | I18: =VLOOKUP(F18,Rajtlista!A$2:D$62,4) -> #N/A
B19: =IF(ISBLANK(A19),FALSE,IF(B19=FALSE,NOW(),B19)) -> FALSE | C19: =B19-start!$C$1 -> -44072.721 | D19: =C19/IF(E19="sprint",10,19) -> #N/A | E19: =VLOOKUP(A19,Rajtlista!A$2:D$62,4) -> #N/A | G19: =IF(ISBLANK(F19),FALSE,IF(G19=FALSE,NOW(),G19)) -> FALSE | H19: =G19-VLOOKUP(F19,A$4:B$64,2,FALSE) -> #N/A | I19: =VLOOKUP(F19,Rajtlista!A$2:D$62,4) -> #N/A
B20: =IF(ISBLANK(A20),FALSE,IF(B20=FALSE,NOW(),B20)) -> FALSE | C20: =B20-start!$C$1 -> -44072.721 | D20: =C20/IF(E20="sprint",10,19) -> #N/A | E20: =VLOOKUP(A20,Rajtlista!A$2:D$62,4) -> #N/A | G20: =IF(ISBLANK(F20),FALSE,IF(G20=FALSE,NOW(),G20)) -> FALSE | H20: =G20-VLOOKUP(F20,A$4:B$64,2,FALSE) -> #N/A | I20: =VLOOKUP(F20,Rajtlista!A$2:D$62,4) -> #N/A
B21: =IF(ISBLANK(A21),FALSE,IF(B21=FALSE,NOW(),B21)) -> FALSE | C21: =B21-start!$C$1 -> -44072.721 | D21: =C21/IF(E21="sprint",10,19) -> #N/A | E21: =VLOOKUP(A21,Rajtlista!A$2:D$62,4) -> #N/A | G21: =IF(ISBLANK(F21),FALSE,IF(G21=FALSE,NOW(),G21)) -> FALSE | H21: =G21-VLOOKUP(F21,A$4:B$64,2,FALSE) -> #N/A | I21: =VLOOKUP(F21,Rajtlista!A$2:D$62,4) -> #N/A
B22: =IF(ISBLANK(A22),FALSE,IF(B22=FALSE,NOW(),B22)) -> FALSE | C22: =B22-start!$C$1 -> -44072.721 | D22: =C22/IF(E22="sprint",10,19) -> #N/A | E22: =VLOOKUP(A22,Rajtlista!A$2:D$62,4) -> #N/A | G22: =IF(ISBLANK(F22),FALSE,IF(G22=FALSE,NOW(),G22)) -> FALSE | H22: =G22-VLOOKUP(F22,A$4:B$64,2,FALSE) -> #N/A | I22: =VLOOKUP(F22,Rajtlista!A$2:D$62,4) -> #N/A
B23: =IF(ISBLANK(A23),FALSE,IF(B23=FALSE,NOW(),B23)) -> FALSE | C23: =B23-start!$C$1 -> -44072.721 | D23: =C23/IF(E23="sprint",10,19) -> #N/A | E23: =VLOOKUP(A23,Rajtlista!A$2:D$62,4) -> #N/A | G23: =IF(ISBLANK(F23),FALSE,IF(G23=FALSE,NOW(),G23)) -> FALSE | H23: =G23-VLOOKUP(F23,A$4:B$64,2,FALSE) -> #N/A | I23: =VLOOKUP(F23,Rajtlista!A$2:D$62,4) -> #N/A
B24: =IF(ISBLANK(A24),FALSE,IF(B24=FALSE,NOW(),B24)) -> FALSE | C24: =B24-start!$C$1 -> -44072.721 | D24: =C24/IF(E24="sprint",10,19) -> #N/A | E24: =VLOOKUP(A24,Rajtlista!A$2:D$62,4) -> #N/A | G24: =IF(ISBLANK(F24),FALSE,IF(G24=FALSE,NOW(),G24)) -> FALSE | H24: =G24-VLOOKUP(F24,A$4:B$64,2,FALSE) -> #N/A | I24: =VLOOKUP(F24,Rajtlista!A$2:D$62,4) -> #N/A
... B64: =IF(ISBLANK(A64),FALSE,IF(B64=FALSE,NOW(),B64)) -> FALSE | C64: =B64-start!$C$1 -> -44072.721 | D64: =C64/IF(E64="sprint",10,19) -> #N/A | E64: =VLOOKUP(A64,Rajtlista!A$2:D$62,4) -> #N/A | G64: =IF(ISBLANK(F64),FALSE,IF(G64=FALSE,NOW(),G64)) -> FALSE | H64: =G64-VLOOKUP(F64,A$4:B$64,2,FALSE) -> #N/A | I64: =VLOOKUP(F64,Rajtlista!A$2:D$62,4) -> #N/A

Sheet depo2
A1: BRINGA VÉGE | F1: FUTÁS ELEJE | L1: =start!A1 -> START | M1: =start!B1 -> 4 | N1: =start!C1 -> 44072.721
A3: Rajtszám | B3: Időpont | C3: Bringa ideje | D3: Bringa sebessége (km/h) | E3: Táv | F3: Rajtszám | G3: Időpont | H3: Depo ideje | I3: Táv
A4: 7 | B4: =IF(ISBLANK(A4),FALSE,IF(B4=FALSE,NOW(),B4)) -> 44072.786 | C4: =B4-VLOOKUP(A4,depo1!F$4:G$64,2,FALSE) -> 0.045488889 | D4: =(IF(E4="sprint",29.5,IF(E4="rövid",56,86.5)))/((C4)*24) -> 27.021251 | E4: =VLOOKUP(A4,Rajtlista!A$2:D$62,4) -> sprint | F4: 7 | G4: =IF(ISBLANK(F4),FALSE,IF(G4=FALSE,NOW(),G4)) -> 44072.787 | H4: =G4-VLOOKUP(F4,A$4:B$64,2,FALSE) -> 0.00095034722 | I4: =VLOOKUP(F4,Rajtlista!A$2:D$62,4) -> sprint
A5: 5 | B5: =IF(ISBLANK(A5),FALSE,IF(B5=FALSE,NOW(),B5)) -> 44072.787 | C5: =B5-VLOOKUP(A5,depo1!F$4:G$64,2,FALSE) -> 0.047286458 | D5: =(IF(E5="sprint",29.5,IF(E5="rövid",56,86.5)))/((C5)*24) -> 25.994052 | E5: =VLOOKUP(A5,Rajtlista!A$2:D$62,4) -> sprint | F5: 5 | G5: =IF(ISBLANK(F5),FALSE,IF(G5=FALSE,NOW(),G5)) -> 44072.788 | H5: =G5-VLOOKUP(F5,A$4:B$64,2,FALSE) -> 0.00088506944 | I5: =VLOOKUP(F5,Rajtlista!A$2:D$62,4) -> sprint
A6: 4 | B6: =IF(ISBLANK(A6),FALSE,IF(B6=FALSE,NOW(),B6)) -> 44072.787 | C6: =B6-VLOOKUP(A6,depo1!F$4:G$64,2,FALSE) -> 0.041739931 | D6: =22/((C6)*24) -> 21.961385 | E6: =VLOOKUP(A6,Rajtlista!A$2:D$62,4) -> veterán | F6: 4 | G6: =IF(ISBLANK(F6),FALSE,IF(G6=FALSE,NOW(),G6)) -> 44072.789 | H6: =G6-VLOOKUP(F6,A$4:B$64,2,FALSE) -> 0.0020982639 | I6: =VLOOKUP(F6,Rajtlista!A$2:D$62,4) -> veterán
A7: 1 | B7: =IF(ISBLANK(A7),FALSE,IF(B7=FALSE,NOW(),B7)) -> 44072.791 | C7: =B7-VLOOKUP(A7,depo1!F$4:G$64,2,FALSE) -> 0.052490046 | D7: =(IF(E7="sprint",29.5,IF(E7="rövid",56,86.5)))/((C7)*24) -> 23.417138 | E7: =VLOOKUP(A7,Rajtlista!A$2:D$62,4) -> sprint | F7: 1 | G7: =IF(ISBLANK(F7),FALSE,IF(G7=FALSE,NOW(),G7)) -> 44072.791 | H7: =G7-VLOOKUP(F7,A$4:B$64,2,FALSE) -> 0.00046284722 | I7: =VLOOKUP(F7,Rajtlista!A$2:D$62,4) -> sprint
A8: 8 | B8: =IF(ISBLANK(A8),FALSE,IF(B8=FALSE,NOW(),B8)) -> 44072.792 | C8: =B8-VLOOKUP(A8,depo1!F$4:G$64,2,FALSE) -> 0.051899074 | D8: =(IF(E8="sprint",29.5,IF(E8="rövid",56,86.5)))/((C8)*24) -> 23.683788 | E8: =VLOOKUP(A8,Rajtlista!A$2:D$62,4) -> sprint | F8: 8 | G8: =IF(ISBLANK(F8),FALSE,IF(G8=FALSE,NOW(),G8)) -> 44072.793 | H8: =G8-VLOOKUP(F8,A$4:B$64,2,FALSE) -> 0.00077685186 | I8: =VLOOKUP(F8,Rajtlista!A$2:D$62,4) -> sprint
A9: 6 | B9: =IF(ISBLANK(A9),FALSE,IF(B9=FALSE,NOW(),B9)) -> 44072.795 | C9: =B9-VLOOKUP(A9,depo1!F$4:G$64,2,FALSE) -> 0.056395602 | D9: =(IF(E9="sprint",29.5,IF(E9="rövid",56,86.5)))/((C9)*24) -> 21.795435 | E9: =VLOOKUP(A9,Rajtlista!A$2:D$62,4) -> sprint | F9: 6 | G9: =IF(ISBLANK(F9),FALSE,IF(G9=FALSE,NOW(),G9)) -> 44072.797 | H9: =G9-VLOOKUP(F9,A$4:B$64,2,FALSE) -> 0.0024064815 | I9: =VLOOKUP(F9,Rajtlista!A$2:D$62,4) -> sprint
A10: 3 | B10: =IF(ISBLANK(A10),FALSE,IF(B10=FALSE,NOW(),B10)) -> 44072.812 | C10: =B10-VLOOKUP(A10,depo1!F$4:G$64,2,FALSE) -> 0.057831481 | D10: =22/((C10)*24) -> 15.850652 | E10: =VLOOKUP(A10,Rajtlista!A$2:D$62,4) -> veterán | F10: 3 | G10: 44072.817 | H10: =G10-VLOOKUP(F10,A$4:B$64,2,FALSE) -> 0.0048903935 | I10: =VLOOKUP(F10,Rajtlista!A$2:D$62,4) -> veterán | L10: 44072.812
A11: 9 | B11: =IF(ISBLANK(A11),FALSE,IF(B11=FALSE,NOW(),B11)) -> 44072.831 | C11: =B11-VLOOKUP(A11,depo1!F$4:G$64,2,FALSE) -> 0.079321528 | D11: =(IF(E11="sprint",29.5,IF(E11="rövid",56,86.5)))/((C11)*24) -> 15.496003 | E11: =VLOOKUP(A11,Rajtlista!A$2:D$62,4) -> sprint | F11: 9 | G11: =IF(ISBLANK(F11),FALSE,IF(G11=FALSE,NOW(),G11)) -> 44072.835 | H11: =G11-VLOOKUP(F11,A$4:B$64,2,FALSE) -> 0.0038577546 | I11: =VLOOKUP(F11,Rajtlista!A$2:D$62,4) -> sprint
A12: 10 | B12: =IF(ISBLANK(A12),FALSE,IF(B12=FALSE,NOW(),B12)) -> 44072.831 | C12: =B12-VLOOKUP(A12,depo1!F$4:G$64,2,FALSE) -> 0.079303472 | D12: =(IF(E12="sprint",29.5,IF(E12="rövid",56,86.5)))/((C12)*24) -> 15.499532 | E12: =VLOOKUP(A12,Rajtlista!A$2:D$62,4) -> sprint | F12: 10 | G12: =IF(ISBLANK(F12),FALSE,IF(G12=FALSE,NOW(),G12)) -> 44072.835 | H12: =G12-VLOOKUP(F12,A$4:B$64,2,FALSE) -> 0.003850463 | I12: =VLOOKUP(F12,Rajtlista!A$2:D$62,4) -> sprint | L12: 44072.822
B13: =IF(ISBLANK(A13),FALSE,IF(B13=FALSE,NOW(),B13)) -> FALSE | C13: =B13-VLOOKUP(A13,depo1!F$4:G$64,2,FALSE) -> #N/A | D13: =(IF(E13="sprint",29.5,IF(E13="rövid",56,86.5)))/((C13)*24) -> #N/A | E13: =VLOOKUP(A13,Rajtlista!A$2:D$62,4) -> #N/A | G13: =IF(ISBLANK(F13),FALSE,IF(G13=FALSE,NOW(),G13)) -> FALSE | H13: =G13-VLOOKUP(F13,A$4:B$64,2,FALSE) -> #N/A | I13: =VLOOKUP(F13,Rajtlista!A$2:D$62,4) -> #N/A
B14: =IF(ISBLANK(A14),FALSE,IF(B14=FALSE,NOW(),B14)) -> FALSE | C14: =B14-VLOOKUP(A14,depo1!F$4:G$64,2,FALSE) -> #N/A | D14: =(IF(E14="sprint",29.5,IF(E14="rövid",56,86.5)))/((C14)*24) -> #N/A | E14: =VLOOKUP(A14,Rajtlista!A$2:D$62,4) -> #N/A | G14: =IF(ISBLANK(F14),FALSE,IF(G14=FALSE,NOW(),G14)) -> FALSE | H14: =G14-VLOOKUP(F14,A$4:B$64,2,FALSE) -> #N/A | I14: =VLOOKUP(F14,Rajtlista!A$2:D$62,4) -> #N/A | L14: =L12-L10 -> 0.009780787
B15: =IF(ISBLANK(A15),FALSE,IF(B15=FALSE,NOW(),B15)) -> FALSE | C15: =B15-VLOOKUP(A15,depo1!F$4:G$64,2,FALSE) -> #N/A | D15: =(IF(E15="sprint",29.5,IF(E15="rövid",56,86.5)))/((C15)*24) -> #N/A | E15: =VLOOKUP(A15,Rajtlista!A$2:D$62,4) -> #N/A | G15: =IF(ISBLANK(F15),FALSE,IF(G15=FALSE,NOW(),G15)) -> FALSE | H15: =G15-VLOOKUP(F15,A$4:B$64,2,FALSE) -> #N/A | I15: =VLOOKUP(F15,Rajtlista!A$2:D$62,4) -> #N/A | L15: =L14/2 -> 0.0048903935
B16: =IF(ISBLANK(A16),FALSE,IF(B16=FALSE,NOW(),B16)) -> FALSE | C16: =B16-VLOOKUP(A16,depo1!F$4:G$64,2,FALSE) -> #N/A | D16: =(IF(E16="sprint",29.5,IF(E16="rövid",56,86.5)))/((C16)*24) -> #N/A | E16: =VLOOKUP(A16,Rajtlista!A$2:D$62,4) -> #N/A | G16: =IF(ISBLANK(F16),FALSE,IF(G16=FALSE,NOW(),G16)) -> FALSE | H16: =G16-VLOOKUP(F16,A$4:B$64,2,FALSE) -> #N/A | I16: =VLOOKUP(F16,Rajtlista!A$2:D$62,4) -> #N/A | L16: =L10+L15 -> 44072.817
B17: =IF(ISBLANK(A17),FALSE,IF(B17=FALSE,NOW(),B17)) -> FALSE | C17: =B17-VLOOKUP(A17,depo1!F$4:G$64,2,FALSE) -> #N/A | D17: =(IF(E17="sprint",29.5,IF(E17="rövid",56,86.5)))/((C17)*24) -> #N/A | E17: =VLOOKUP(A17,Rajtlista!A$2:D$62,4) -> #N/A | G17: =IF(ISBLANK(F17),FALSE,IF(G17=FALSE,NOW(),G17)) -> FALSE | H17: =G17-VLOOKUP(F17,A$4:B$64,2,FALSE) -> #N/A | I17: =VLOOKUP(F17,Rajtlista!A$2:D$62,4) -> #N/A
B18: =IF(ISBLANK(A18),FALSE,IF(B18=FALSE,NOW(),B18)) -> FALSE | C18: =B18-VLOOKUP(A18,depo1!F$4:G$64,2,FALSE) -> #N/A | D18: =(IF(E18="sprint",29.5,IF(E18="rövid",56,86.5)))/((C18)*24) -> #N/A | E18: =VLOOKUP(A18,Rajtlista!A$2:D$62,4) -> #N/A | G18: =IF(ISBLANK(F18),FALSE,IF(G18=FALSE,NOW(),G18)) -> FALSE | H18: =G18-VLOOKUP(F18,A$4:B$64,2,FALSE) -> #N/A | I18: =VLOOKUP(F18,Rajtlista!A$2:D$62,4) -> #N/A
B19: =IF(ISBLANK(A19),FALSE,IF(B19=FALSE,NOW(),B19)) -> FALSE | C19: =B19-VLOOKUP(A19,depo1!F$4:G$64,2,FALSE) -> #N/A | D19: =(IF(E19="sprint",29.5,IF(E19="rövid",56,86.5)))/((C19)*24) -> #N/A | E19: =VLOOKUP(A19,Rajtlista!A$2:D$62,4) -> #N/A | G19: =IF(ISBLANK(F19),FALSE,IF(G19=FALSE,NOW(),G19)) -> FALSE | H19: =G19-VLOOKUP(F19,A$4:B$64,2,FALSE) -> #N/A | I19: =VLOOKUP(F19,Rajtlista!A$2:D$62,4) -> #N/A
B20: =IF(ISBLANK(A20),FALSE,IF(B20=FALSE,NOW(),B20)) -> FALSE | C20: =B20-VLOOKUP(A20,depo1!F$4:G$64,2,FALSE) -> #N/A | D20: =(IF(E20="sprint",29.5,IF(E20="rövid",56,86.5)))/((C20)*24) -> #N/A | E20: =VLOOKUP(A20,Rajtlista!A$2:D$62,4) -> #N/A | G20: =IF(ISBLANK(F20),FALSE,IF(G20=FALSE,NOW(),G20)) -> FALSE | H20: =G20-VLOOKUP(F20,A$4:B$64,2,FALSE) -> #N/A | I20: =VLOOKUP(F20,Rajtlista!A$2:D$62,4) -> #N/A
B21: =IF(ISBLANK(A21),FALSE,IF(B21=FALSE,NOW(),B21)) -> FALSE | C21: =B21-VLOOKUP(A21,depo1!F$4:G$64,2,FALSE) -> #N/A | D21: =(IF(E21="sprint",29.5,IF(E21="rövid",56,86.5)))/((C21)*24) -> #N/A | E21: =VLOOKUP(A21,Rajtlista!A$2:D$62,4) -> #N/A | G21: =IF(ISBLANK(F21),FALSE,IF(G21=FALSE,NOW(),G21)) -> FALSE | H21: =G21-VLOOKUP(F21,A$4:B$64,2,FALSE) -> #N/A | I21: =VLOOKUP(F21,Rajtlista!A$2:D$62,4) -> #N/A
B22: =IF(ISBLANK(A22),FALSE,IF(B22=FALSE,NOW(),B22)) -> FALSE | C22: =B22-VLOOKUP(A22,depo1!F$4:G$64,2,FALSE) -> #N/A | D22: =(IF(E22="sprint",29.5,IF(E22="rövid",56,86.5)))/((C22)*24) -> #N/A | E22: =VLOOKUP(A22,Rajtlista!A$2:D$62,4) -> #N/A | G22: =IF(ISBLANK(F22),FALSE,IF(G22=FALSE,NOW(),G22)) -> FALSE | H22: =G22-VLOOKUP(F22,A$4:B$64,2,FALSE) -> #N/A | I22: =VLOOKUP(F22,Rajtlista!A$2:D$62,4) -> #N/A
B23: =IF(ISBLANK(A23),FALSE,IF(B23=FALSE,NOW(),B23)) -> FALSE | C23: =B23-VLOOKUP(A23,depo1!F$4:G$64,2,FALSE) -> #N/A | D23: =(IF(E23="sprint",29.5,IF(E23="rövid",56,86.5)))/((C23)*24) -> #N/A | E23: =VLOOKUP(A23,Rajtlista!A$2:D$62,4) -> #N/A | G23: =IF(ISBLANK(F23),FALSE,IF(G23=FALSE,NOW(),G23)) -> FALSE | H23: =G23-VLOOKUP(F23,A$4:B$64,2,FALSE) -> #N/A | I23: =VLOOKUP(F23,Rajtlista!A$2:D$62,4) -> #N/A
B24: =IF(ISBLANK(A24),FALSE,IF(B24=FALSE,NOW(),B24)) -> FALSE | C24: =B24-VLOOKUP(A24,depo1!F$4:G$64,2,FALSE) -> #N/A | D24: =(IF(E24="sprint",29.5,IF(E24="rövid",56,86.5)))/((C24)*24) -> #N/A | E24: =VLOOKUP(A24,Rajtlista!A$2:D$62,4) -> #N/A | G24: =IF(ISBLANK(F24),FALSE,IF(G24=FALSE,NOW(),G24)) -> FALSE | H24: =G24-VLOOKUP(F24,A$4:B$64,2,FALSE) -> #N/A | I24: =VLOOKUP(F24,Rajtlista!A$2:D$62,4) -> #N/A
B25: =IF(ISBLANK(A25),FALSE,IF(B25=FALSE,NOW(),B25)) -> FALSE | C25: =B25-VLOOKUP(A25,depo1!F$4:G$64,2,FALSE) -> #N/A | D25: =(IF(E25="sprint",29.5,IF(E25="rövid",56,86.5)))/((C25)*24) -> #N/A | E25: =VLOOKUP(A25,Rajtlista!A$2:D$62,4) -> #N/A | G25: =IF(ISBLANK(F25),FALSE,IF(G25=FALSE,NOW(),G25)) -> FALSE | H25: =G25-VLOOKUP(F25,A$4:B$64,2,FALSE) -> #N/A | I25: =VLOOKUP(F25,Rajtlista!A$2:D$62,4) -> #N/A
B26: =IF(ISBLANK(A26),FALSE,IF(B26=FALSE,NOW(),B26)) -> FALSE | C26: =B26-VLOOKUP(A26,depo1!F$4:G$64,2,FALSE) -> #N/A | D26: =(IF(E26="sprint",29.5,IF(E26="rövid",56,86.5)))/((C26)*24) -> #N/A | E26: =VLOOKUP(A26,Rajtlista!A$2:D$62,4) -> #N/A | G26: =IF(ISBLANK(F26),FALSE,IF(G26=FALSE,NOW(),G26)) -> FALSE | H26: =G26-VLOOKUP(F26,A$4:B$64,2,FALSE) -> #N/A | I26: =VLOOKUP(F26,Rajtlista!A$2:D$62,4) -> #N/A
B27: =IF(ISBLANK(A27),FALSE,IF(B27=FALSE,NOW(),B27)) -> FALSE | C27: =B27-VLOOKUP(A27,depo1!F$4:G$64,2,FALSE) -> #N/A | D27: =(IF(E27="sprint",29.5,IF(E27="rövid",56,86.5)))/((C27)*24) -> #N/A | E27: =VLOOKUP(A27,Rajtlista!A$2:D$62,4) -> #N/A | G27: =IF(ISBLANK(F27),FALSE,IF(G27=FALSE,NOW(),G27)) -> FALSE | H27: =G27-VLOOKUP(F27,A$4:B$64,2,FALSE) -> #N/A | I27: =VLOOKUP(F27,Rajtlista!A$2:D$62,4) -> #N/A
B28: =IF(ISBLANK(A28),FALSE,IF(B28=FALSE,NOW(),B28)) -> FALSE | C28: =B28-VLOOKUP(A28,depo1!F$4:G$64,2,FALSE) -> #N/A | D28: =(IF(E28="sprint",29.5,IF(E28="rövid",56,86.5)))/((C28)*24) -> #N/A | E28: =VLOOKUP(A28,Rajtlista!A$2:D$62,4) -> #N/A | G28: =IF(ISBLANK(F28),FALSE,IF(G28=FALSE,NOW(),G28)) -> FALSE | H28: =G28-VLOOKUP(F28,A$4:B$64,2,FALSE) -> #N/A | I28: =VLOOKUP(F28,Rajtlista!A$2:D$62,4) -> #N/A
... B64: =IF(ISBLANK(A64),FALSE,IF(B64=FALSE,NOW(),B64)) -> FALSE | C64: =B64-VLOOKUP(A64,depo1!F$4:G$64,2,FALSE) -> #N/A | D64: =(IF(E64="sprint",29.5,IF(E64="rövid",56,86.5)))/((C64)*24) -> #N/A | E64: =VLOOKUP(A64,Rajtlista!A$2:D$62,4) -> #N/A | G64: =IF(ISBLANK(F64),FALSE,IF(G64=FALSE,NOW(),G64)) -> FALSE | H64: =G64-VLOOKUP(F64,A$4:B$64,2,FALSE) -> #N/A | I64: =VLOOKUP(F64,Rajtlista!A$2:D$62,4) -> #N/A

Sheet befuto
A1: FUTÁS VÉGE | H1: =start!A1 -> START | I1: =start!B1 -> 4 | J1: =start!C1 -> 44072.721
A3: Rajtszám | B3: Időpont | C3: Futás ideje | D3: Futás sebessége (perc/km) | E3: Táv | F3: Végeredmény
A4: 4 | B4: =IF(ISBLANK(A4),FALSE,IF(B4=FALSE,NOW(),B4)) -> 44072.805 | C4: =B4-VLOOKUP(A4,depo2!F$4:G$64,2,FALSE) -> 0.015346759 | D4: =C4/2.6 -> 0.0059025997 | E4: =VLOOKUP(A4,Rajtlista!A$2:D$62,4) -> veterán | F4: =B4-start!C$1 -> 0.083512616
A5: 5 | B5: =IF(ISBLANK(A5),FALSE,IF(B5=FALSE,NOW(),B5)) -> 44072.807 | C5: =B5-VLOOKUP(A5,depo2!F$4:G$64,2,FALSE) -> 0.019047569 | D5: =C5/(IF(E5="sprint",5.2,IF(E5="rövid",10.4,20.8))) -> 0.0036629941 | E5: =VLOOKUP(A5,Rajtlista!A$2:D$62,4) -> sprint | F5: =B5-start!C$1 -> 0.0857
A6: 7 | B6: =IF(ISBLANK(A6),FALSE,IF(B6=FALSE,NOW(),B6)) -> 44072.809 | C6: =B6-VLOOKUP(A6,depo2!F$4:G$64,2,FALSE) -> 0.021443981 | D6: =C6/(IF(E6="sprint",5.2,IF(E6="rövid",10.4,20.8))) -> 0.0041238426 | E6: =VLOOKUP(A6,Rajtlista!A$2:D$62,4) -> sprint | F6: =B6-start!C$1 -> 0.08723831
A7: 1 | B7: =IF(ISBLANK(A7),FALSE,IF(B7=FALSE,NOW(),B7)) -> 44072.813 | C7: =B7-VLOOKUP(A7,depo2!F$4:G$64,2,FALSE) -> 0.02150463 | D7: =C7/(IF(E7="sprint",5.2,IF(E7="rövid",10.4,20.8))) -> 0.0041355057 | E7: =VLOOKUP(A7,Rajtlista!A$2:D$62,4) -> sprint | F7: =B7-start!C$1 -> 0.091581134
A8: 8 | B8: =IF(ISBLANK(A8),FALSE,IF(B8=FALSE,NOW(),B8)) -> 44072.816 | C8: =B8-VLOOKUP(A8,depo2!F$4:G$64,2,FALSE) -> 0.023262731 | D8: =C8/(IF(E8="sprint",5.2,IF(E8="rövid",10.4,20.8))) -> 0.0044736022 | E8: =VLOOKUP(A8,Rajtlista!A$2:D$62,4) -> sprint | F8: =B8-start!C$1 -> 0.094565741
A9: 6 | B9: =IF(ISBLANK(A9),FALSE,IF(B9=FALSE,NOW(),B9)) -> 44072.822 | C9: =B9-VLOOKUP(A9,depo2!F$4:G$64,2,FALSE) -> 0.024804977 | D9: =C9/(IF(E9="sprint",5.2,IF(E9="rövid",10.4,20.8))) -> 0.0047701879 | E9: =VLOOKUP(A9,Rajtlista!A$2:D$62,4) -> sprint | F9: =B9-start!C$1 -> 0.10099838
A10: 3 | B10: =IF(ISBLANK(A10),FALSE,IF(B10=FALSE,NOW(),B10)) -> 44072.835 | C10: =B10-VLOOKUP(A10,depo2!F$4:G$64,2,FALSE) -> 0.018550116 | D10: =C10/2.6 -> 0.0071346599 | E10: =VLOOKUP(A10,Rajtlista!A$2:D$62,4) -> veterán | F10: =B10-start!C$1 -> 0.11403565
A11: 9 | B11: =IF(ISBLANK(A11),FALSE,IF(B11=FALSE,NOW(),B11)) -> 44072.868 | C11: =B11-VLOOKUP(A11,depo2!F$4:G$64,2,FALSE) -> 0.032962616 | D11: =C11/(IF(E11="sprint",5.2,IF(E11="rövid",10.4,20.8))) -> 0.0063389646 | E11: =VLOOKUP(A11,Rajtlista!A$2:D$62,4) -> sprint | F11: =B11-start!C$1 -> 0.14685972
A12: 10 | B12: =IF(ISBLANK(A12),FALSE,IF(B12=FALSE,NOW(),B12)) -> 44072.868 | C12: =B12-VLOOKUP(A12,depo2!F$4:G$64,2,FALSE) -> 0.032956019 | D12: =C12/(IF(E12="sprint",5.2,IF(E12="rövid",10.4,20.8))) -> 0.0063376959 | E12: =VLOOKUP(A12,Rajtlista!A$2:D$62,4) -> sprint | F12: =B12-start!C$1 -> 0.14686644
B13: =IF(ISBLANK(A13),FALSE,IF(B13=FALSE,NOW(),B13)) -> FALSE | C13: =B13-VLOOKUP(A13,depo2!F$4:G$64,2,FALSE) -> #N/A | D13: =C13/(IF(E13="sprint",5.2,IF(E13="rövid",10.4,20.8))) -> #N/A | E13: =VLOOKUP(A13,Rajtlista!A$2:D$62,4) -> #N/A | F13: =B13-start!C$1 -> -44072.721
B14: =IF(ISBLANK(A14),FALSE,IF(B14=FALSE,NOW(),B14)) -> FALSE | C14: =B14-VLOOKUP(A14,depo2!F$4:G$64,2,FALSE) -> #N/A | D14: =C14/(IF(E14="sprint",5.2,IF(E14="rövid",10.4,20.8))) -> #N/A | E14: =VLOOKUP(A14,Rajtlista!A$2:D$62,4) -> #N/A | F14: =B14-start!C$1 -> -44072.721
B15: =IF(ISBLANK(A15),FALSE,IF(B15=FALSE,NOW(),B15)) -> FALSE | C15: =B15-VLOOKUP(A15,depo2!F$4:G$64,2,FALSE) -> #N/A | D15: =C15/(IF(E15="sprint",5.2,IF(E15="rövid",10.4,20.8))) -> #N/A | E15: =VLOOKUP(A15,Rajtlista!A$2:D$62,4) -> #N/A | F15: =B15-start!C$1 -> -44072.721
B16: =IF(ISBLANK(A16),FALSE,IF(B16=FALSE,NOW(),B16)) -> FALSE | C16: =B16-VLOOKUP(A16,depo2!F$4:G$64,2,FALSE) -> #N/A | D16: =C16/(IF(E16="sprint",5.2,IF(E16="rövid",10.4,20.8))) -> #N/A | E16: =VLOOKUP(A16,Rajtlista!A$2:D$62,4) -> #N/A | F16: =B16-start!C$1 -> -44072.721
B17: =IF(ISBLANK(A17),FALSE,IF(B17=FALSE,NOW(),B17)) -> FALSE | C17: =B17-VLOOKUP(A17,depo2!F$4:G$64,2,FALSE) -> #N/A | D17: =C17/(IF(E17="sprint",5.2,IF(E17="rövid",10.4,20.8))) -> #N/A | E17: =VLOOKUP(A17,Rajtlista!A$2:D$62,4) -> #N/A | F17: =B17-start!C$1 -> -44072.721
B18: =IF(ISBLANK(A18),FALSE,IF(B18=FALSE,NOW(),B18)) -> FALSE | C18: =B18-VLOOKUP(A18,depo2!F$4:G$64,2,FALSE) -> #N/A | D18: =C18/(IF(E18="sprint",5.2,IF(E18="rövid",10.4,20.8))) -> #N/A | E18: =VLOOKUP(A18,Rajtlista!A$2:D$62,4) -> #N/A | F18: =B18-start!C$1 -> -44072.721
B19: =IF(ISBLANK(A19),FALSE,IF(B19=FALSE,NOW(),B19)) -> FALSE | C19: =B19-VLOOKUP(A19,depo2!F$4:G$64,2,FALSE) -> #N/A | D19: =C19/(IF(E19="sprint",5.2,IF(E19="rövid",10.4,20.8))) -> #N/A | E19: =VLOOKUP(A19,Rajtlista!A$2:D$62,4) -> #N/A | F19: =B19-start!C$1 -> -44072.721
B20: =IF(ISBLANK(A20),FALSE,IF(B20=FALSE,NOW(),B20)) -> FALSE | C20: =B20-VLOOKUP(A20,depo2!F$4:G$64,2,FALSE) -> #N/A | D20: =C20/(IF(E20="sprint",5.2,IF(E20="rövid",10.4,20.8))) -> #N/A | E20: =VLOOKUP(A20,Rajtlista!A$2:D$62,4) -> #N/A | F20: =B20-start!C$1 -> -44072.721
B21: =IF(ISBLANK(A21),FALSE,IF(B21=FALSE,NOW(),B21)) -> FALSE | C21: =B21-VLOOKUP(A21,depo2!F$4:G$64,2,FALSE) -> #N/A | D21: =C21/(IF(E21="sprint",5.2,IF(E21="rövid",10.4,20.8))) -> #N/A | E21: =VLOOKUP(A21,Rajtlista!A$2:D$62,4) -> #N/A | F21: =B21-start!C$1 -> -44072.721
B22: =IF(ISBLANK(A22),FALSE,IF(B22=FALSE,NOW(),B22)) -> FALSE | C22: =B22-VLOOKUP(A22,depo2!F$4:G$64,2,FALSE) -> #N/A | D22: =C22/(IF(E22="sprint",5.2,IF(E22="rövid",10.4,20.8))) -> #N/A | E22: =VLOOKUP(A22,Rajtlista!A$2:D$62,4) -> #N/A | F22: =B22-start!C$1 -> -44072.721
B23: =IF(ISBLANK(A23),FALSE,IF(B23=FALSE,NOW(),B23)) -> FALSE | C23: =B23-VLOOKUP(A23,depo2!F$4:G$64,2,FALSE) -> #N/A | D23: =C23/(IF(E23="sprint",5.2,IF(E23="rövid",10.4,20.8))) -> #N/A | E23: =VLOOKUP(A23,Rajtlista!A$2:D$62,4) -> #N/A | F23: =B23-start!C$1 -> -44072.721
B24: =IF(ISBLANK(A24),FALSE,IF(B24=FALSE,NOW(),B24)) -> FALSE | C24: =B24-VLOOKUP(A24,depo2!F$4:G$64,2,FALSE) -> #N/A | D24: =C24/(IF(E24="sprint",5.2,IF(E24="rövid",10.4,20.8))) -> #N/A | E24: =VLOOKUP(A24,Rajtlista!A$2:D$62,4) -> #N/A | F24: =B24-start!C$1 -> -44072.721
... B64: =IF(ISBLANK(A64),FALSE,IF(B64=FALSE,NOW(),B64)) -> FALSE | C64: =B64-VLOOKUP(A64,depo2!F$4:G$64,2,FALSE) -> #N/A | D64: =C64/(IF(E64="sprint",5.2,IF(E64="rövid",10.4,20.8))) -> #N/A | E64: =VLOOKUP(A64,Rajtlista!A$2:D$62,4) -> #N/A | F64: =B64-start!C$1 -> -44072.721

Sheet Végeredmény
A1: Rajtszám | B1: Név | C1: Kategória | D1: Táv | E1: Úszás | F1: Úszás sebessége | G1: Depo1 | H1: Bringa | I1: Bringa sebessége | J1: Depo2 | K1: Futás | L1: Futás sebessége | M1: Végeredmény
A2: =Rajtlista!A5 -> 4 | B2: =Rajtlista!B5 -> Feri | C2: =Rajtlista!C5 -> férfi | D2: veterán | E2: =VLOOKUP(A2,depo1!$A$4:$D$64,3,FALSE) -> 0.023224537 | F2: =VLOOKUP(A2,depo1!$A$4:$D$64,4,FALSE) -> 0.0023224537 | G2: =VLOOKUP(A2,depo1!F$4:H$64,3,FALSE) -> 0.001103125 | H2: =VLOOKUP(A2,depo2!$A$4:$D$64,3,FALSE) -> 0.041739931 | I2: =VLOOKUP(A2,depo2!$A$4:$D$64,4,FALSE) -> 21.961385 | J2: =VLOOKUP(A2,depo2!F$4:H$64,3,FALSE) -> 0.0020982639 | K2: =VLOOKUP(A2,befuto!$A$4:$D$64,3,FALSE) -> 0.015346759 | L2: =VLOOKUP(A2,befuto!$A$4:$D$64,4,FALSE) -> 0.0059025997 | M2: =VLOOKUP(A2,befuto!A$4:F$64,6,FALSE) -> 0.083512616
A3: =Rajtlista!A6 -> 5 | B3: =Rajtlista!B6 -> Áron | C3: =Rajtlista!C6 -> férfi | D3: =Rajtlista!D6 -> sprint | E3: =VLOOKUP(A3,depo1!$A$4:$D$64,3,FALSE) -> 0.016931713 | F3: =VLOOKUP(A3,depo1!$A$4:$D$64,4,FALSE) -> 0.0016931713 | G3: =VLOOKUP(A3,depo1!F$4:H$64,3,FALSE) -> 0.0015491898 | H3: =VLOOKUP(A3,depo2!$A$4:$D$64,3,FALSE) -> 0.047286458 | I3: =VLOOKUP(A3,depo2!$A$4:$D$64,4,FALSE) -> 25.994052 | J3: =VLOOKUP(A3,depo2!F$4:H$64,3,FALSE) -> 0.00088506944 | K3: =VLOOKUP(A3,befuto!$A$4:$D$64,3,FALSE) -> 0.019047569 | L3: =VLOOKUP(A3,befuto!$A$4:$D$64,4,FALSE) -> 0.0036629941 | M3: =VLOOKUP(A3,befuto!A$4:F$64,6,FALSE) -> 0.0857
A4: =Rajtlista!A8 -> 7 | B4: =Rajtlista!B8 -> Tomi | C4: =Rajtlista!C8 -> férfi | D4: =Rajtlista!D8 -> sprint | E4: =VLOOKUP(A4,depo1!$A$4:$D$64,3,FALSE) -> 0.018173611 | F4: =VLOOKUP(A4,depo1!$A$4:$D$64,4,FALSE) -> 0.0018173611 | G4: =VLOOKUP(A4,depo1!F$4:H$64,3,FALSE) -> 0.0011814815 | H4: =VLOOKUP(A4,depo2!$A$4:$D$64,3,FALSE) -> 0.045488889 | I4: =VLOOKUP(A4,depo2!$A$4:$D$64,4,FALSE) -> 27.021251 | J4: =VLOOKUP(A4,depo2!F$4:H$64,3,FALSE) -> 0.00095034722 | K4: =VLOOKUP(A4,befuto!$A$4:$D$64,3,FALSE) -> 0.021443981 | L4: =VLOOKUP(A4,befuto!$A$4:$D$64,4,FALSE) -> 0.0041238426 | M4: =VLOOKUP(A4,befuto!A$4:F$64,6,FALSE) -> 0.08723831
A5: =Rajtlista!A2 -> 1 | B5: =Rajtlista!B2 -> Kriszti | C5: =Rajtlista!C2 -> nő | D5: =Rajtlista!D2 -> sprint | E5: =VLOOKUP(A5,depo1!$A$4:$D$64,3,FALSE) -> 0.016070833 | F5: =VLOOKUP(A5,depo1!$A$4:$D$64,4,FALSE) -> 0.0016070833 | G5: =VLOOKUP(A5,depo1!F$4:H$64,3,FALSE) -> 0.0010527778 | H5: =VLOOKUP(A5,depo2!$A$4:$D$64,3,FALSE) -> 0.052490046 | I5: =VLOOKUP(A5,depo2!$A$4:$D$64,4,FALSE) -> 23.417138 | J5: =VLOOKUP(A5,depo2!F$4:H$64,3,FALSE) -> 0.00046284722 | K5: =VLOOKUP(A5,befuto!$A$4:$D$64,3,FALSE) -> 0.02150463 | L5: =VLOOKUP(A5,befuto!$A$4:$D$64,4,FALSE) -> 0.0041355057 | M5: =VLOOKUP(A5,befuto!A$4:F$64,6,FALSE) -> 0.091581134
A6: =Rajtlista!A9 -> 8 | B6: =Rajtlista!B9 -> Bálint | C6: =Rajtlista!C9 -> férfi | D6: =Rajtlista!D9 -> sprint | E6: =VLOOKUP(A6,depo1!$A$4:$D$64,3,FALSE) -> 0.016941782 | F6: =VLOOKUP(A6,depo1!$A$4:$D$64,4,FALSE) -> 0.0016941782 | G6: =VLOOKUP(A6,depo1!F$4:H$64,3,FALSE) -> 0.0016853009 | H6: =VLOOKUP(A6,depo2!$A$4:$D$64,3,FALSE) -> 0.051899074 | I6: =VLOOKUP(A6,depo2!$A$4:$D$64,4,FALSE) -> 23.683788 | J6: =VLOOKUP(A6,depo2!F$4:H$64,3,FALSE) -> 0.00077685186 | K6: =VLOOKUP(A6,befuto!$A$4:$D$64,3,FALSE) -> 0.023262731 | L6: =VLOOKUP(A6,befuto!$A$4:$D$64,4,FALSE) -> 0.0044736022 | M6: =VLOOKUP(A6,befuto!A$4:F$64,6,FALSE) -> 0.094565741
A7: =Rajtlista!A7 -> 6 | B7: =Rajtlista!B7 -> Ádám | C7: =Rajtlista!C7 -> férfi | D7: =Rajtlista!D7 -> sprint | E7: =VLOOKUP(A7,depo1!$A$4:$D$64,3,FALSE) -> 0.016022917 | F7: =VLOOKUP(A7,depo1!$A$4:$D$64,4,FALSE) -> 0.0016022917 | G7: =VLOOKUP(A7,depo1!F$4:H$64,3,FALSE) -> 0.0013684028 | H7: =VLOOKUP(A7,depo2!$A$4:$D$64,3,FALSE) -> 0.056395602 | I7: =VLOOKUP(A7,depo2!$A$4:$D$64,4,FALSE) -> 21.795435 | J7: =VLOOKUP(A7,depo2!F$4:H$64,3,FALSE) -> 0.0024064815 | K7: =VLOOKUP(A7,befuto!$A$4:$D$64,3,FALSE) -> 0.024804977 | L7: =VLOOKUP(A7,befuto!$A$4:$D$64,4,FALSE) -> 0.0047701879 | M7: =VLOOKUP(A7,befuto!A$4:F$64,6,FALSE) -> 0.10099838
A8: =Rajtlista!A4 -> 3 | B8: =Rajtlista!B4 -> Gábor | C8: =Rajtlista!C4 -> férfi | D8: veterán | E8: =VLOOKUP(A8,depo1!$A$4:$D$64,3,FALSE) -> 0.027265394 | F8: =VLOOKUP(A8,depo1!$A$4:$D$64,4,FALSE) -> 0.0027265394 | G8: =VLOOKUP(A8,depo1!F$4:H$64,3,FALSE) -> 0.0054982639 | H8: =VLOOKUP(A8,depo2!$A$4:$D$64,3,FALSE) -> 0.057831481 | I8: =VLOOKUP(A8,depo2!$A$4:$D$64,4,FALSE) -> 15.850652 | J8: =VLOOKUP(A8,depo2!F$4:H$64,3,FALSE) -> 0.0048903935 | K8: =VLOOKUP(A8,befuto!$A$4:$D$64,3,FALSE) -> 0.018550116 | L8: =VLOOKUP(A8,befuto!$A$4:$D$64,4,FALSE) -> 0.0071346599 | M8: =VLOOKUP(A8,befuto!A$4:F$64,6,FALSE) -> 0.11403565
A9: =Rajtlista!A10 -> 9 | B9: =Rajtlista!B10 -> Anti | C9: =Rajtlista!C10 -> férfi | D9: =Rajtlista!D10 -> sprint | E9: =VLOOKUP(A9,depo1!$A$4:$D$64,3,FALSE) -> 0.025061343 | F9: =VLOOKUP(A9,depo1!$A$4:$D$64,4,FALSE) -> 0.0025061343 | G9: =VLOOKUP(A9,depo1!F$4:H$64,3,FALSE) -> 0.0056564815 | H9: =VLOOKUP(A9,depo2!$A$4:$D$64,3,FALSE) -> 0.079321528 | I9: =VLOOKUP(A9,depo2!$A$4:$D$64,4,FALSE) -> 15.496003 | J9: =VLOOKUP(A9,depo2!F$4:H$64,3,FALSE) -> 0.0038577546 | K9: =VLOOKUP(A9,befuto!$A$4:$D$64,3,FALSE) -> 0.032962616 | L9: =VLOOKUP(A9,befuto!$A$4:$D$64,4,FALSE) -> 0.0063389646 | M9: =VLOOKUP(A9,befuto!A$4:F$64,6,FALSE) -> 0.14685972
A10: =Rajtlista!A11 -> 10 | B10: =Rajtlista!B11 -> Ibi | C10: =Rajtlista!C11 -> nő | D10: =Rajtlista!D11 -> sprint | E10: =VLOOKUP(A10,depo1!$A$4:$D$64,3,FALSE) -> 0.025140625 | F10: =VLOOKUP(A10,depo1!$A$4:$D$64,4,FALSE) -> 0.0025140625 | G10: =VLOOKUP(A10,depo1!F$4:H$64,3,FALSE) -> 0.0056158565 | H10: =VLOOKUP(A10,depo2!$A$4:$D$64,3,FALSE) -> 0.079303472 | I10: =VLOOKUP(A10,depo2!$A$4:$D$64,4,FALSE) -> 15.499532 | J10: =VLOOKUP(A10,depo2!F$4:H$64,3,FALSE) -> 0.003850463 | K10: =VLOOKUP(A10,befuto!$A$4:$D$64,3,FALSE) -> 0.032956019 | L10: =VLOOKUP(A10,befuto!$A$4:$D$64,4,FALSE) -> 0.0063376959 | M10: =VLOOKUP(A10,befuto!A$4:F$64,6,FALSE) -> 0.14686644
A11: =Rajtlista!A12 -> 0 | B11: =Rajtlista!B12 -> 0 | C11: =Rajtlista!C12 -> 0 | D11: =Rajtlista!D12 -> 0 | E11: =VLOOKUP(A11,depo1!$A$4:$D$64,3,FALSE) -> #N/A | F11: =VLOOKUP(A11,depo1!$A$4:$D$64,4,FALSE) -> #N/A | G11: =VLOOKUP(A11,depo1!F$4:H$64,3,FALSE) -> #N/A | H11: =VLOOKUP(A11,depo2!$A$4:$D$64,3,FALSE) -> #N/A | I11: =VLOOKUP(A11,depo2!$A$4:$D$64,4,FALSE) -> #N/A | J11: =VLOOKUP(A11,depo2!F$4:H$64,3,FALSE) -> #N/A | K11: =VLOOKUP(A11,befuto!$A$4:$D$64,3,FALSE) -> #N/A | L11: =VLOOKUP(A11,befuto!$A$4:$D$64,4,FALSE) -> #N/A | M11: =VLOOKUP(A11,befuto!A$4:F$64,6,FALSE) -> #N/A
A12: =Rajtlista!A13 -> 0 | B12: =Rajtlista!B13 -> 0 | C12: =Rajtlista!C13 -> 0 | D12: =Rajtlista!D13 -> 0 | E12: =VLOOKUP(A12,depo1!$A$4:$D$64,3,FALSE) -> #N/A | F12: =VLOOKUP(A12,depo1!$A$4:$D$64,4,FALSE) -> #N/A | G12: =VLOOKUP(A12,depo1!F$4:H$64,3,FALSE) -> #N/A | H12: =VLOOKUP(A12,depo2!$A$4:$D$64,3,FALSE) -> #N/A | I12: =VLOOKUP(A12,depo2!$A$4:$D$64,4,FALSE) -> #N/A | J12: =VLOOKUP(A12,depo2!F$4:H$64,3,FALSE) -> #N/A | K12: =VLOOKUP(A12,befuto!$A$4:$D$64,3,FALSE) -> #N/A | L12: =VLOOKUP(A12,befuto!$A$4:$D$64,4,FALSE) -> #N/A | M12: =VLOOKUP(A12,befuto!A$4:F$64,6,FALSE) -> #N/A
A13: =Rajtlista!A14 -> 0 | B13: =Rajtlista!B14 -> 0 | C13: =Rajtlista!C14 -> 0 | D13: =Rajtlista!D14 -> 0 | E13: =VLOOKUP(A13,depo1!$A$4:$D$64,3,FALSE) -> #N/A | F13: =VLOOKUP(A13,depo1!$A$4:$D$64,4,FALSE) -> #N/A | G13: =VLOOKUP(A13,depo1!F$4:H$64,3,FALSE) -> #N/A | H13: =VLOOKUP(A13,depo2!$A$4:$D$64,3,FALSE) -> #N/A | I13: =VLOOKUP(A13,depo2!$A$4:$D$64,4,FALSE) -> #N/A | J13: =VLOOKUP(A13,depo2!F$4:H$64,3,FALSE) -> #N/A | K13: =VLOOKUP(A13,befuto!$A$4:$D$64,3,FALSE) -> #N/A | L13: =VLOOKUP(A13,befuto!$A$4:$D$64,4,FALSE) -> #N/A | M13: =VLOOKUP(A13,befuto!A$4:F$64,6,FALSE) -> #N/A
A14: =Rajtlista!A15 -> 0 | B14: =Rajtlista!B15 -> 0 | C14: =Rajtlista!C15 -> 0 | D14: =Rajtlista!D15 -> 0 | E14: =VLOOKUP(A14,depo1!$A$4:$D$64,3,FALSE) -> #N/A | F14: =VLOOKUP(A14,depo1!$A$4:$D$64,4,FALSE) -> #N/A | G14: =VLOOKUP(A14,depo1!F$4:H$64,3,FALSE) -> #N/A | H14: =VLOOKUP(A14,depo2!$A$4:$D$64,3,FALSE) -> #N/A | I14: =VLOOKUP(A14,depo2!$A$4:$D$64,4,FALSE) -> #N/A | J14: =VLOOKUP(A14,depo2!F$4:H$64,3,FALSE) -> #N/A | K14: =VLOOKUP(A14,befuto!$A$4:$D$64,3,FALSE) -> #N/A | L14: =VLOOKUP(A14,befuto!$A$4:$D$64,4,FALSE) -> #N/A | M14: =VLOOKUP(A14,befuto!A$4:F$64,6,FALSE) -> #N/A
A15: =Rajtlista!A16 -> 0 | B15: =Rajtlista!B16 -> 0 | C15: =Rajtlista!C16 -> 0 | D15: =Rajtlista!D16 -> 0 | E15: =VLOOKUP(A15,depo1!$A$4:$D$64,3,FALSE) -> #N/A | F15: =VLOOKUP(A15,depo1!$A$4:$D$64,4,FALSE) -> #N/A | G15: =VLOOKUP(A15,depo1!F$4:H$64,3,FALSE) -> #N/A | H15: =VLOOKUP(A15,depo2!$A$4:$D$64,3,FALSE) -> #N/A | I15: =VLOOKUP(A15,depo2!$A$4:$D$64,4,FALSE) -> #N/A | J15: =VLOOKUP(A15,depo2!F$4:H$64,3,FALSE) -> #N/A | K15: =VLOOKUP(A15,befuto!$A$4:$D$64,3,FALSE) -> #N/A | L15: =VLOOKUP(A15,befuto!$A$4:$D$64,4,FALSE) -> #N/A | M15: =VLOOKUP(A15,befuto!A$4:F$64,6,FALSE) -> #N/A
A16: =Rajtlista!A17 -> 0 | B16: =Rajtlista!B17 -> 0 | C16: =Rajtlista!C17 -> 0 | D16: =Rajtlista!D17 -> 0 | E16: =VLOOKUP(A16,depo1!$A$4:$D$64,3,FALSE) -> #N/A | F16: =VLOOKUP(A16,depo1!$A$4:$D$64,4,FALSE) -> #N/A | G16: =VLOOKUP(A16,depo1!F$4:H$64,3,FALSE) -> #N/A | H16: =VLOOKUP(A16,depo2!$A$4:$D$64,3,FALSE) -> #N/A | I16: =VLOOKUP(A16,depo2!$A$4:$D$64,4,FALSE) -> #N/A | J16: =VLOOKUP(A16,depo2!F$4:H$64,3,FALSE) -> #N/A | K16: =VLOOKUP(A16,befuto!$A$4:$D$64,3,FALSE) -> #N/A | L16: =VLOOKUP(A16,befuto!$A$4:$D$64,4,FALSE) -> #N/A | M16: =VLOOKUP(A16,befuto!A$4:F$64,6,FALSE) -> #N/A
A17: =Rajtlista!A18 -> 0 | B17: =Rajtlista!B18 -> 0 | C17: =Rajtlista!C18 -> 0 | D17: =Rajtlista!D18 -> 0 | E17: =VLOOKUP(A17,depo1!$A$4:$D$64,3,FALSE) -> #N/A | F17: =VLOOKUP(A17,depo1!$A$4:$D$64,4,FALSE) -> #N/A | G17: =VLOOKUP(A17,depo1!F$4:H$64,3,FALSE) -> #N/A | H17: =VLOOKUP(A17,depo2!$A$4:$D$64,3,FALSE) -> #N/A | I17: =VLOOKUP(A17,depo2!$A$4:$D$64,4,FALSE) -> #N/A | J17: =VLOOKUP(A17,depo2!F$4:H$64,3,FALSE) -> #N/A | K17: =VLOOKUP(A17,befuto!$A$4:$D$64,3,FALSE) -> #N/A | L17: =VLOOKUP(A17,befuto!$A$4:$D$64,4,FALSE) -> #N/A | M17: =VLOOKUP(A17,befuto!A$4:F$64,6,FALSE) -> #N/A
A18: =Rajtlista!A19 -> 0 | B18: =Rajtlista!B19 -> 0 | C18: =Rajtlista!C19 -> 0 | D18: =Rajtlista!D19 -> 0 | E18: =VLOOKUP(A18,depo1!$A$4:$D$64,3,FALSE) -> #N/A | F18: =VLOOKUP(A18,depo1!$A$4:$D$64,4,FALSE) -> #N/A | G18: =VLOOKUP(A18,depo1!F$4:H$64,3,FALSE) -> #N/A | H18: =VLOOKUP(A18,depo2!$A$4:$D$64,3,FALSE) -> #N/A | I18: =VLOOKUP(A18,depo2!$A$4:$D$64,4,FALSE) -> #N/A | J18: =VLOOKUP(A18,depo2!F$4:H$64,3,FALSE) -> #N/A | K18: =VLOOKUP(A18,befuto!$A$4:$D$64,3,FALSE) -> #N/A | L18: =VLOOKUP(A18,befuto!$A$4:$D$64,4,FALSE) -> #N/A | M18: =VLOOKUP(A18,befuto!A$4:F$64,6,FALSE) -> #N/A
A19: =Rajtlista!A20 -> 0 | B19: =Rajtlista!B20 -> 0 | C19: =Rajtlista!C20 -> 0 | D19: =Rajtlista!D20 -> 0 | E19: =VLOOKUP(A19,depo1!$A$4:$D$64,3,FALSE) -> #N/A | F19: =VLOOKUP(A19,depo1!$A$4:$D$64,4,FALSE) -> #N/A | G19: =VLOOKUP(A19,depo1!F$4:H$64,3,FALSE) -> #N/A | H19: =VLOOKUP(A19,depo2!$A$4:$D$64,3,FALSE) -> #N/A | I19: =VLOOKUP(A19,depo2!$A$4:$D$64,4,FALSE) -> #N/A | J19: =VLOOKUP(A19,depo2!F$4:H$64,3,FALSE) -> #N/A | K19: =VLOOKUP(A19,befuto!$A$4:$D$64,3,FALSE) -> #N/A | L19: =VLOOKUP(A19,befuto!$A$4:$D$64,4,FALSE) -> #N/A | M19: =VLOOKUP(A19,befuto!A$4:F$64,6,FALSE) -> #N/A
A20: =Rajtlista!A21 -> 0 | B20: =Rajtlista!B21 -> 0 | C20: =Rajtlista!C21 -> 0 | D20: =Rajtlista!D21 -> 0 | E20: =VLOOKUP(A20,depo1!$A$4:$D$64,3,FALSE) -> #N/A | F20: =VLOOKUP(A20,depo1!$A$4:$D$64,4,FALSE) -> #N/A | G20: =VLOOKUP(A20,depo1!F$4:H$64,3,FALSE) -> #N/A | H20: =VLOOKUP(A20,depo2!$A$4:$D$64,3,FALSE) -> #N/A | I20: =VLOOKUP(A20,depo2!$A$4:$D$64,4,FALSE) -> #N/A | J20: =VLOOKUP(A20,depo2!F$4:H$64,3,FALSE) -> #N/A | K20: =VLOOKUP(A20,befuto!$A$4:$D$64,3,FALSE) -> #N/A | L20: =VLOOKUP(A20,befuto!$A$4:$D$64,4,FALSE) -> #N/A | M20: =VLOOKUP(A20,befuto!A$4:F$64,6,FALSE) -> #N/A
... A60: =Rajtlista!A61 -> 0 | B60: =Rajtlista!B61 -> 0 | C60: =Rajtlista!C61 -> 0 | D60: =Rajtlista!D61 -> 0 | E60: =VLOOKUP(A60,depo1!$A$4:$D$64,3,FALSE) -> #N/A | F60: =VLOOKUP(A60,depo1!$A$4:$D$64,4,FALSE) -> #N/A | G60: =VLOOKUP(A60,depo1!F$4:H$64,3,FALSE) -> #N/A | H60: =VLOOKUP(A60,depo2!$A$4:$D$64,3,FALSE) -> #N/A | I60: =VLOOKUP(A60,depo2!$A$4:$D$64,4,FALSE) -> #N/A | J60: =VLOOKUP(A60,depo2!F$4:H$64,3,FALSE) -> #N/A | K60: =VLOOKUP(A60,befuto!$A$4:$D$64,3,FALSE) -> #N/A | L60: =VLOOKUP(A60,befuto!$A$4:$D$64,4,FALSE) -> #N/A | M60: =VLOOKUP(A60,befuto!A$4:F$64,6,FALSE) -> #N/A
A61: =Rajtlista!A3 -> 0 | B61: =Rajtlista!B3 -> 0 | C61: =Rajtlista!C3 -> 0 | D61: =Rajtlista!D3 -> 0 | E61: =VLOOKUP(A61,depo1!$A$4:$D$64,3,FALSE) -> #N/A | F61: =VLOOKUP(A61,depo1!$A$4:$D$64,4,FALSE) -> #N/A | G61: =VLOOKUP(A61,depo1!F$4:H$64,3,FALSE) -> #N/A | H61: =VLOOKUP(A61,depo2!$A$4:$D$64,3,FALSE) -> #N/A | I61: =VLOOKUP(A61,depo2!$A$4:$D$64,4,FALSE) -> #N/A | J61: =VLOOKUP(A61,depo2!F$4:H$64,3,FALSE) -> #N/A | K61: =VLOOKUP(A61,befuto!$A$4:$D$64,3,FALSE) -> #N/A | L61: =VLOOKUP(A61,befuto!$A$4:$D$64,4,FALSE) -> #N/A | M61: =VLOOKUP(A61,befuto!A$4:F$64,6,FALSE) -> #N/A
